BEGIN:VCALENDAR
VERSION:2.0
PRODID:-//Agenda do Vinho - ECPv4.9.0//NONSGML v1.0//EN
CALSCALE:GREGORIAN
METHOD:PUBLISH
X-WR-CALNAME:Agenda do Vinho
X-ORIGINAL-URL:https://agendadovinho.com.br
X-WR-CALDESC:Eventos para Agenda do Vinho
BEGIN:VEVENT
DTSTART;TZID=America/Sao_Paulo:20200307T130000
DTEND;TZID=America/Sao_Paulo:20200307T180000
DTSTAMP:20260425T183157
CREATED:20200304T150755Z
LAST-MODIFIED:20200304T150755Z
UID:11763-1583586000-1583604000@agendadovinho.com.br
SUMMARY:Vinhos e comidinhas da Geórgia
DESCRIPTION:Venha degustar 8000 anos de história do vinho. \nNeste sábado dia 07 de março venha passar uma tarde relax e provar \nVinhos da Geórgia \nTaças a partir de R$ 10\,00 \nGarrafas a partir de R$ 59\,00 \nPratos típicos locais \n
URL:https://agendadovinho.com.br/event/vinhos-e-comidinhas-da-georgia/
LOCATION:Wine Body\, Rua Oscar Freire 540 - loja 4 - Jardins\, São Paulo\, SP\, 01426-000\, Brasil
CATEGORIES:Degustação,SP - São Paulo
ATTACH;FMTTYPE=image/jpeg:https://agendadovinho.com.br/wp-content/uploads/2020/03/Georgia-Evento-Sabado.jpg
END:VEVENT
END:VCALENDAR