BEGIN:VCALENDAR
VERSION:2.0
PRODID:-//Agenda do Vinho - ECPv4.9.0//NONSGML v1.0//EN
CALSCALE:GREGORIAN
METHOD:PUBLISH
X-WR-CALNAME:Agenda do Vinho
X-ORIGINAL-URL:https://agendadovinho.com.br
X-WR-CALDESC:Eventos para Agenda do Vinho
BEGIN:VEVENT
DTSTART;TZID=UTC-3:20190427T193000
DTEND;TZID=UTC-3:20190427T223000
DTSTAMP:20260420T015654
CREATED:20190422T204850Z
LAST-MODIFIED:20190422T204850Z
UID:2394-1556393400-1556404200@agendadovinho.com.br
SUMMARY:Vinhos Doces & Chocolates
DESCRIPTION:Harmonização: Vinhos Doces & Chocolates \nA harmonização mais deliciosa da Páscoa porto-alegrense está de volta! Vamos degustar seis vinhos doces de estilos e origens distintas\, harmonizando com chocolates especiais. \n1. Marquês de Marialva Reserva dos Sócios Licoroso – Bairrada – Portugal \n2. Porto Messias 10 Anos – Douro – Portugal \n3. Miolo Late Harvest – Campanha Gaúcha – Brasil \n4. Embrapa Uva e Vinho Tannat Licoroso – Campanha Gaúcha – Brasil \n5. Casa Valduga Licoroso Tinto 1875 – Vale dos Vinhedos – Brasil \n6. Recioto della Valpolicella Classico i Castei Michele Castellani – Veneto – Itália \nGaranta sua vaga! \n
URL:https://agendadovinho.com.br/event/vinhos-doces-chocolates/
LOCATION:Avenida Nilópolis\, 166\, Avenida Nilópolis\, 166\, Porto Alegre\, RS\, Brasil
CATEGORIES:Curso técnico,RS - Porto Alegre
ATTACH;FMTTYPE=image/jpeg:https://agendadovinho.com.br/wp-content/uploads/2019/04/vinhos-e-chocolates_270419-e1556067510327.jpg
END:VEVENT
END:VCALENDAR