BEGIN:VCALENDAR
VERSION:2.0
PRODID:-//Agenda do Vinho - ECPv4.9.0//NONSGML v1.0//EN
CALSCALE:GREGORIAN
METHOD:PUBLISH
X-WR-CALNAME:Agenda do Vinho
X-ORIGINAL-URL:https://agendadovinho.com.br
X-WR-CALDESC:Eventos para Agenda do Vinho
BEGIN:VEVENT
DTSTART;TZID=America/Sao_Paulo:20200505T200000
DTEND;TZID=America/Sao_Paulo:20200505T200000
DTSTAMP:20260426T035917
CREATED:20200503T154631Z
LAST-MODIFIED:20200503T154631Z
UID:13097-1588708800-1588708800@agendadovinho.com.br
SUMMARY:Vinhos do Vêneto
DESCRIPTION:05/05 às 20:00. \n
URL:https://agendadovinho.com.br/event/vinhos-do-veneto/
LOCATION:Instagram
CATEGORIES:Curso técnico,Online
ATTACH;FMTTYPE=image/jpeg:https://agendadovinho.com.br/wp-content/uploads/2020/05/abs_campinas_050520.jpg
END:VEVENT
END:VCALENDAR