BEGIN:VCALENDAR
VERSION:2.0
PRODID:-//Agenda do Vinho - ECPv4.9.0//NONSGML v1.0//EN
CALSCALE:GREGORIAN
METHOD:PUBLISH
X-WR-CALNAME:Agenda do Vinho
X-ORIGINAL-URL:https://agendadovinho.com.br
X-WR-CALDESC:Eventos para Agenda do Vinho
BEGIN:VEVENT
DTSTART;TZID=America/Sao_Paulo:20200421T200000
DTEND;TZID=America/Sao_Paulo:20200421T200000
DTSTAMP:20260426T040041
CREATED:20200420T204513Z
LAST-MODIFIED:20200420T204513Z
UID:12691-1587499200-1587499200@agendadovinho.com.br
SUMMARY:Vinhos do Uruguai
DESCRIPTION:Na próxima 3ª feira\, dia 21/04 às 20:00\, vamos bater um papo com Bruno Brianezi\, criador do Blog VinhoNosso. A conversa será sobre vinhos do Uruguai e a figura do “Wine digital influencer”. Com 76 mil seguidores no Instagram\, o VinhoNosso pode ser considerado um dos principais influenciadores digitais na região de Campinas.\nJunto com a ascendência das mídias sociais surgiu a figura do “digital influencer”. Inicialmente abrigados no formato de blogs\, os “digital influencers” atuam em várias plataformas\, geralmente usando as mídias sociais\, especialmente o Facebook e Instagram\, para atrair audiência para seus conteúdos\, que podem estar hospedados em blogs\, canais no Youtube e até mesmo nas próprias redes sociais.\nDigital Influencers é o nome usado para qualificar perfis nas redes sociais\, focados num único tema e que contam com milhares de seguidores. Suas publicações contam com alto envolvimento\, atraindo novos seguidores e sendo priorizado pelos algoritmos das redes sociais na prioridade de visualização.\nE o mundo do vinho também conta com seus “digitais influencers”\, ou melhor “Wiine digital influencers”. Sem competir com a crítica especializada\, eles contribuem para disseminar a cultura do vinho e popularizar a categoria. \n
URL:https://agendadovinho.com.br/event/vinhos-do-uruguai/
LOCATION:Instagram
CATEGORIES:Curso técnico,Online
ATTACH;FMTTYPE=image/jpeg:https://agendadovinho.com.br/wp-content/uploads/2020/04/abs_campinas_210420.jpg
END:VEVENT
END:VCALENDAR