BEGIN:VCALENDAR
VERSION:2.0
PRODID:-//Agenda do Vinho - ECPv4.9.0//NONSGML v1.0//EN
CALSCALE:GREGORIAN
METHOD:PUBLISH
X-WR-CALNAME:Agenda do Vinho
X-ORIGINAL-URL:https://agendadovinho.com.br
X-WR-CALDESC:Eventos para Agenda do Vinho
BEGIN:VEVENT
DTSTART;TZID=America/Sao_Paulo:20200513T200000
DTEND;TZID=America/Sao_Paulo:20200513T200000
DTSTAMP:20260426T024006
CREATED:20200511T143234Z
LAST-MODIFIED:20200511T143234Z
UID:13351-1589400000-1589400000@agendadovinho.com.br
SUMMARY:Vinhos do Chile e harmonizaçoes
DESCRIPTION:13/05 – 20h \n
URL:https://agendadovinho.com.br/event/vinhos-do-chile-e-harmonizacoes/
LOCATION:Instagram
CATEGORIES:Curso técnico,Online
ATTACH;FMTTYPE=image/jpeg:https://agendadovinho.com.br/wp-content/uploads/2020/05/chef.brunomoura_130520.jpg
END:VEVENT
END:VCALENDAR