BEGIN:VCALENDAR
VERSION:2.0
PRODID:-//Agenda do Vinho - ECPv4.9.0//NONSGML v1.0//EN
CALSCALE:GREGORIAN
METHOD:PUBLISH
X-WR-CALNAME:Agenda do Vinho
X-ORIGINAL-URL:https://agendadovinho.com.br
X-WR-CALDESC:Eventos para Agenda do Vinho
BEGIN:VEVENT
DTSTART;TZID=America/Sao_Paulo:20200501T210000
DTEND;TZID=America/Sao_Paulo:20200501T210000
DTSTAMP:20260426T024130
CREATED:20200430T145420Z
LAST-MODIFIED:20200430T145420Z
UID:13012-1588366800-1588366800@agendadovinho.com.br
SUMMARY:Vinhos: dicas para iniciantes
DESCRIPTION:01/05 – 21h \n
URL:https://agendadovinho.com.br/event/vinhos-dicas-para-iniciantes/
LOCATION:Instagram
CATEGORIES:Curso técnico,Online
ATTACH;FMTTYPE=image/jpeg:https://agendadovinho.com.br/wp-content/uploads/2020/04/winelover_br_010520.jpg
END:VEVENT
END:VCALENDAR