BEGIN:VCALENDAR
VERSION:2.0
PRODID:-//Agenda do Vinho - ECPv4.9.0//NONSGML v1.0//EN
CALSCALE:GREGORIAN
METHOD:PUBLISH
X-WR-CALNAME:Agenda do Vinho
X-ORIGINAL-URL:https://agendadovinho.com.br
X-WR-CALDESC:Eventos para Agenda do Vinho
BEGIN:VEVENT
DTSTART;TZID=America/Sao_Paulo:20200922T191500
DTEND;TZID=America/Sao_Paulo:20200922T191500
DTSTAMP:20260425T151449
CREATED:20200922T144701Z
LAST-MODIFIED:20200922T144701Z
UID:16003-1600802100-1600802100@agendadovinho.com.br
SUMMARY:Vinhos de Primavera
DESCRIPTION:22/set – 19:15 \n
URL:https://agendadovinho.com.br/event/vinhos-de-primavera/
LOCATION:Instagram
CATEGORIES:Curso técnico,Online
ATTACH;FMTTYPE=image/jpeg:https://agendadovinho.com.br/wp-content/uploads/2020/09/totalvinhos_220920.jpg
END:VEVENT
END:VCALENDAR