BEGIN:VCALENDAR
VERSION:2.0
PRODID:-//Agenda do Vinho - ECPv4.9.0//NONSGML v1.0//EN
CALSCALE:GREGORIAN
METHOD:PUBLISH
X-WR-CALNAME:Agenda do Vinho
X-ORIGINAL-URL:https://agendadovinho.com.br
X-WR-CALDESC:Eventos para Agenda do Vinho
BEGIN:VEVENT
DTSTART;TZID=America/Sao_Paulo:20200616T203000
DTEND;TZID=America/Sao_Paulo:20200616T203000
DTSTAMP:20260425T231455
CREATED:20200615T160701Z
LAST-MODIFIED:20200615T160701Z
UID:14222-1592339400-1592339400@agendadovinho.com.br
SUMMARY:Vinhos de Portugal
DESCRIPTION:16/06 – 20:30 \n
URL:https://agendadovinho.com.br/event/vinhos-de-portugal-7/
LOCATION:Instagram
CATEGORIES:Curso técnico,Online
ATTACH;FMTTYPE=image/jpeg:https://agendadovinho.com.br/wp-content/uploads/2020/06/vinhosdecorte_160620.jpg
END:VEVENT
END:VCALENDAR