BEGIN:VCALENDAR
VERSION:2.0
PRODID:-//Agenda do Vinho - ECPv4.9.0//NONSGML v1.0//EN
CALSCALE:GREGORIAN
METHOD:PUBLISH
X-WR-CALNAME:Agenda do Vinho
X-ORIGINAL-URL:https://agendadovinho.com.br
X-WR-CALDESC:Eventos para Agenda do Vinho
BEGIN:VEVENT
DTSTART;TZID=America/Sao_Paulo:20200414T190000
DTEND;TZID=America/Sao_Paulo:20200414T190000
DTSTAMP:20260426T040007
CREATED:20200409T192935Z
LAST-MODIFIED:20200413T145943Z
UID:12445-1586890800-1586890800@agendadovinho.com.br
SUMMARY:Vinhos de Jerez
DESCRIPTION:A live do dia 14/04 19:00 terá como tema os vinhos de Jerez. Renato Nahas é Formador homologado pelo Consejo Regulador de Vinos de Jerez. No Brasil há apenas 9 Educadores com essa certificação. Nesse papo\, com Eduardo Sartori\, Presidente da ABS-Campinas\, a história desse vinho tão singular\, seus estilos e alternativas de harmonização serão abordadas. \n
URL:https://agendadovinho.com.br/event/vinhos-de-jerez/
LOCATION:Instagram
CATEGORIES:Curso técnico,Online
ATTACH;FMTTYPE=image/jpeg:https://agendadovinho.com.br/wp-content/uploads/2020/04/abs_campinas_140420_2.jpg
END:VEVENT
END:VCALENDAR