BEGIN:VCALENDAR
VERSION:2.0
PRODID:-//Agenda do Vinho - ECPv4.9.0//NONSGML v1.0//EN
CALSCALE:GREGORIAN
METHOD:PUBLISH
X-WR-CALNAME:Agenda do Vinho
X-ORIGINAL-URL:https://agendadovinho.com.br
X-WR-CALDESC:Eventos para Agenda do Vinho
BEGIN:VEVENT
DTSTART;TZID=America/Sao_Paulo:20200623T200000
DTEND;TZID=America/Sao_Paulo:20200623T200000
DTSTAMP:20260425T231447
CREATED:20200623T160403Z
LAST-MODIFIED:20200623T160403Z
UID:14441-1592942400-1592942400@agendadovinho.com.br
SUMMARY:Vinhos de guarda\, terroir e vinificação
DESCRIPTION:23/06 – 20h \n
URL:https://agendadovinho.com.br/event/vinhos-de-guarda-terroir-e-vinificacao/
LOCATION:Vídeo conferência
CATEGORIES:Curso técnico,Online
ATTACH;FMTTYPE=image/jpeg:https://agendadovinho.com.br/wp-content/uploads/2020/06/fracarowine_230620.jpg
END:VEVENT
END:VCALENDAR