BEGIN:VCALENDAR
VERSION:2.0
PRODID:-//Agenda do Vinho - ECPv4.9.0//NONSGML v1.0//EN
CALSCALE:GREGORIAN
METHOD:PUBLISH
X-WR-CALNAME:Agenda do Vinho
X-ORIGINAL-URL:https://agendadovinho.com.br
X-WR-CALDESC:Eventos para Agenda do Vinho
BEGIN:VEVENT
DTSTART;TZID=America/Sao_Paulo:20200506T200000
DTEND;TZID=America/Sao_Paulo:20200506T200000
DTSTAMP:20260425T233019
CREATED:20200506T150000Z
LAST-MODIFIED:20200506T150000Z
UID:13213-1588795200-1588795200@agendadovinho.com.br
SUMMARY:Vinhos da Serra Catarinense: História de pioneirismo e ocenário atual
DESCRIPTION:06/05 – 20h. \n
URL:https://agendadovinho.com.br/event/vinhos-da-serra-catarinense-historia-de-pioneirismo-e-ocenario-atual/
LOCATION:Instagram
CATEGORIES:Curso técnico,Online
ATTACH;FMTTYPE=image/jpeg:https://agendadovinho.com.br/wp-content/uploads/2020/05/thewineschoolbrasil_060520.jpg
END:VEVENT
END:VCALENDAR