BEGIN:VCALENDAR
VERSION:2.0
PRODID:-//Agenda do Vinho - ECPv4.9.0//NONSGML v1.0//EN
CALSCALE:GREGORIAN
METHOD:PUBLISH
X-WR-CALNAME:Agenda do Vinho
X-ORIGINAL-URL:https://agendadovinho.com.br
X-WR-CALDESC:Eventos para Agenda do Vinho
BEGIN:VEVENT
DTSTART;TZID=America/Sao_Paulo:20200423T210000
DTEND;TZID=America/Sao_Paulo:20200423T210000
DTSTAMP:20260426T035911
CREATED:20200421T192318Z
LAST-MODIFIED:20200421T192318Z
UID:12746-1587675600-1587675600@agendadovinho.com.br
SUMMARY:Vinhos da Itália
DESCRIPTION:Vinhos da Itália\, com @omundoemtacas e @diegoarrebola. \n
URL:https://agendadovinho.com.br/event/vinhos-da-italia/
LOCATION:Instagram
CATEGORIES:Curso técnico,Online
ATTACH;FMTTYPE=image/png:https://agendadovinho.com.br/wp-content/uploads/2020/04/omundoemtacas_230420.png
END:VEVENT
END:VCALENDAR