BEGIN:VCALENDAR
VERSION:2.0
PRODID:-//Agenda do Vinho - ECPv4.9.0//NONSGML v1.0//EN
CALSCALE:GREGORIAN
METHOD:PUBLISH
X-WR-CALNAME:Agenda do Vinho
X-ORIGINAL-URL:https://agendadovinho.com.br
X-WR-CALDESC:Eventos para Agenda do Vinho
BEGIN:VEVENT
DTSTART;TZID=America/Sao_Paulo:20200502T170000
DTEND;TZID=America/Sao_Paulo:20200502T170000
DTSTAMP:20260426T022543
CREATED:20200418T162603Z
LAST-MODIFIED:20200418T162603Z
UID:12669-1588438800-1588438800@agendadovinho.com.br
SUMMARY:Vinho\, voz e violão
DESCRIPTION:@davinha_aovinho e @bertrand_lery \, com apoio da @radio_itatiaia @itatiaiaoficial \, farão uma apresentação exclusiva! Será realizado um show ao vivo\, no Instagram @davinha_aovinho\, no dia 02/05\, às 17h. \n
URL:https://agendadovinho.com.br/event/vinho-voz-e-violao/
LOCATION:Instagram
CATEGORIES:Online,Outros
ATTACH;FMTTYPE=image/jpeg:https://agendadovinho.com.br/wp-content/uploads/2020/04/davinha_aovinho_020520.jpg
END:VEVENT
END:VCALENDAR