BEGIN:VCALENDAR
VERSION:2.0
PRODID:-//Agenda do Vinho - ECPv4.9.0//NONSGML v1.0//EN
CALSCALE:GREGORIAN
METHOD:PUBLISH
X-WR-CALNAME:Agenda do Vinho
X-ORIGINAL-URL:https://agendadovinho.com.br
X-WR-CALDESC:Eventos para Agenda do Vinho
BEGIN:VEVENT
DTSTART;TZID=America/Sao_Paulo:20200625T170000
DTEND;TZID=America/Sao_Paulo:20200625T170000
DTSTAMP:20260423T080152
CREATED:20200625T152025Z
LAST-MODIFIED:20200625T152025Z
UID:14551-1593104400-1593104400@agendadovinho.com.br
SUMMARY:Vinho: viagens\, cultura\, prazer
DESCRIPTION:25/06 – 17h \n
URL:https://agendadovinho.com.br/event/vinho-viagens-cultura-prazer/
LOCATION:Instagram
CATEGORIES:Curso técnico,Online
ATTACH;FMTTYPE=image/jpeg:https://agendadovinho.com.br/wp-content/uploads/2020/06/pro_vinho_250520.jpg
END:VEVENT
END:VCALENDAR