BEGIN:VCALENDAR
VERSION:2.0
PRODID:-//Agenda do Vinho - ECPv4.9.0//NONSGML v1.0//EN
CALSCALE:GREGORIAN
METHOD:PUBLISH
X-WR-CALNAME:Agenda do Vinho
X-ORIGINAL-URL:https://agendadovinho.com.br
X-WR-CALDESC:Eventos para Agenda do Vinho
BEGIN:VEVENT
DTSTART;TZID=America/Sao_Paulo:20191123T160000
DTEND;TZID=America/Sao_Paulo:20191123T220000
DTSTAMP:20260426T030208
CREATED:20191030T192437Z
LAST-MODIFIED:20191112T162429Z
UID:9423-1574524800-1574546400@agendadovinho.com.br
SUMMARY:Vinho Verde Wine Experience
DESCRIPTION:\n\n\n\nPrepare-se para uma experiência incrível com um dos vinhos mais celebrados mundo afora: o Vinho Verde\n\n\n\n\n\n\n\nOrganizado pela Região dos Vinhos Verdes\, o VINHO VERDE WINE EXPERIENCE SÃO PAULO acontece no dia 23 de novembro\, das 16h às 22h\, na Casa Webforce\, no coração do Parque do Ibirapuera. \nSe você gosta de vinho\, você não pode perder este encontro! \n#NãoHáOutroAssim #VinhoVerde #VinhoVerdeSaoPaulo \nDEGUSTAÇÃO LIVRE \nAproveite o evento para conhecer cerca de 200 vinhos dos produtores AB Valley Wines\, Adega de Monção\, Adega Ponte da Barca- Viniverde\, Arcas\, Aveleda\, Campelo\, Enoport Wines\, Provam\, Quinta da Calçada\, Quinta da Lixa\, Quinta de Carapeços\, Quinta de Curvos\, Quinta de Santa Cristina\, Quintas de Caíz\, Quinta do Ameal\, Sogrape\, Vercoope\, Vinhos Norte e Vinhos S. Caetano. \nSPEED TASTINGS\, SHOW COOKINGS\, HARMONIZAÇÕES & COCKTAILS \nO evento contará com a participação do jornalista especialista em vinhos Alexandre Lalas e dos sommeliers Adiú Bastos\, Gabrielli Fleming e Juliana Carani para descontraídas conversas e provas sensoriais. Juntam-se\, ainda\, o chef Mário Rosso e o barman Heitor Marin (do restaurante Seen) para show cookings\, drinques e finger food exclusivos. \nMÚSICA\, DIVERSÃO & OUTRAS SURPRESAS \nO DJ Armando Saullo (Bloco Agrada Gregos\, Audio Club\, Cine Joia\, entre outros) promete um superset de house/tribal. E várias outras atrações estão sendo preparadas para você\, sem esquecer as performances\, a fotografia\, e até o futebol… Curioso? Compre já o seu ingresso! \n\n\n
URL:https://agendadovinho.com.br/event/vinho-verde-wine-experience-3/
LOCATION:Casa Webforce\, Av. República do Líbano\, 331 - Vila Mariana\, São Paulo\, SP\, 04501-000\, Brasil
CATEGORIES:Degustação,SP - São Paulo
ATTACH;FMTTYPE=image/jpeg:https://agendadovinho.com.br/wp-content/uploads/2019/10/vinho-verde_231119.jpg
END:VEVENT
END:VCALENDAR