BEGIN:VCALENDAR
VERSION:2.0
PRODID:-//Agenda do Vinho - ECPv4.9.0//NONSGML v1.0//EN
CALSCALE:GREGORIAN
METHOD:PUBLISH
X-WR-CALNAME:Agenda do Vinho
X-ORIGINAL-URL:https://agendadovinho.com.br
X-WR-CALDESC:Eventos para Agenda do Vinho
BEGIN:VEVENT
DTSTART;TZID=America/Sao_Paulo:20191116T180000
DTEND;TZID=America/Sao_Paulo:20191116T230000
DTSTAMP:20260421T080645
CREATED:20191007T174613Z
LAST-MODIFIED:20191111T140916Z
UID:8969-1573927200-1573945200@agendadovinho.com.br
SUMMARY:Vinho Verde Wine Experience
DESCRIPTION:Vinho Verde #HarmonizaComRJ\nO que é que o Vinho Verde tem\, que harmoniza tão bem com o Rio? Elegância\, exuberância e expressividade. Mas ainda tem mais e nos dias 15 e 16 de novembro você pode vir descobrir\, no Vinho Verde Wine Experience. Venha degustar\, conversar\, aprender\, ouvir boa música e se divertir\, tudo com o cenário maravilhoso do Museu de Arte Moderna do Rio de Janeiro.  \nProdutores convidados\nMais de 100 variedades de vinhos chegam-nos ao Rio\, pela mão dos principais produtores de Vinho Verde\, com quem você poderá conversar e aprender um pouco mais\, sobre este tipo de vinho tão único em todo o mundo.  \nAtrações\nJá dissemos que são mais de 100 vinhos\, mas tem muito mais: finger food preparado por chefs de cozinha renomados\, coquetéis ao pôr-do-sol criados exclusivamente para o evento\, boa música a cargo de DJ Lucce e\, claro\, vista para a Baía da Guanabara\, Pão de Açúcar e Marina da Glória. Bom demais\, não é? \nIngressos\nVocê pode comprar ingresso para o dia que quiser\, mas fica a dica: chegue cedo\, pois a festa começa logo às 18h. O ingresso tem valor promocional se comprado antecipadamente. A venda no dia será feita mediante lotação e sem o valor promocional. \nAo comprar o ingresso você terá direito a:\n. 1 taça oficial\n. Degustações livres por 19 dos melhores produtores da conceituada Região dos Vinhos Verdes\n. 1 Masterclass*\n. 1 Showcooking/Harmonização*\n. Sunset Drinks (19h/21h): cocktails grátis\n. Finger foods by Chef Ricardo Lapeyre\n. Acesso ao espaço\, animado por DJ Lucce\n*Inscrição no local\, limitada à capacidade da sala/24 par. A agenda poderá sofrer alterações. \nSaiba mais sobre o Vinho Verde Wine Experience em https://www.vinhoverdewineexperience.com.br/ \n
URL:https://agendadovinho.com.br/event/vinho-verde-wine-experience-2/
LOCATION:Museu de Arte Moderna do Rio de Janeiro\, Av. Infante Dom Henrique\, 85 - Parque do Flamengo\, Rio de Janeiro\, RJ\, 20021-140\, Brasil
CATEGORIES:Degustação,RJ - Rio de Janeiro
ATTACH;FMTTYPE=image/png:https://agendadovinho.com.br/wp-content/uploads/2019/10/vinho-verde_151119.png
END:VEVENT
END:VCALENDAR