BEGIN:VCALENDAR
VERSION:2.0
PRODID:-//Agenda do Vinho - ECPv4.9.0//NONSGML v1.0//EN
CALSCALE:GREGORIAN
METHOD:PUBLISH
X-WR-CALNAME:Agenda do Vinho
X-ORIGINAL-URL:https://agendadovinho.com.br
X-WR-CALDESC:Eventos para Agenda do Vinho
BEGIN:VEVENT
DTSTART;TZID=America/Sao_Paulo:20210615T200000
DTEND;TZID=America/Sao_Paulo:20210615T200000
DTSTAMP:20260426T042421
CREATED:20210525T210127Z
LAST-MODIFIED:20210525T210127Z
UID:17489-1623787200-1623787200@agendadovinho.com.br
SUMMARY:Vinho Rosé\, Laranja e Verde
DESCRIPTION:15/jun – 20:00 \n
URL:https://agendadovinho.com.br/event/vinho-rose-laranja-e-verde/
LOCATION:Vídeo conferência
CATEGORIES:Curso técnico,Online
ATTACH;FMTTYPE=image/jpeg:https://agendadovinho.com.br/wp-content/uploads/2021/05/duvalewinetasting_150621.jpg
END:VEVENT
END:VCALENDAR