BEGIN:VCALENDAR
VERSION:2.0
PRODID:-//Agenda do Vinho - ECPv4.9.0//NONSGML v1.0//EN
CALSCALE:GREGORIAN
METHOD:PUBLISH
X-WR-CALNAME:Agenda do Vinho
X-ORIGINAL-URL:https://agendadovinho.com.br
X-WR-CALDESC:Eventos para Agenda do Vinho
BEGIN:VEVENT
DTSTART;TZID=America/Sao_Paulo:20200414T193000
DTEND;TZID=America/Sao_Paulo:20200414T193000
DTSTAMP:20260426T035729
CREATED:20200414T150824Z
LAST-MODIFIED:20200414T150824Z
UID:12505-1586892600-1586892600@agendadovinho.com.br
SUMMARY:Vinho Rosé
DESCRIPTION:A super maquiadora @nandabaierle estará com @winemasterbr às 19h30m para apreciação de Vinho Rosé! 😮⁣\n⁣ \n
URL:https://agendadovinho.com.br/event/vinho-rose-3/
LOCATION:Instagram
CATEGORIES:Online,Outros
ATTACH;FMTTYPE=image/jpeg:https://agendadovinho.com.br/wp-content/uploads/2020/04/winemasterbr_140420.jpg
END:VEVENT
END:VCALENDAR