BEGIN:VCALENDAR
VERSION:2.0
PRODID:-//Agenda do Vinho - ECPv4.9.0//NONSGML v1.0//EN
CALSCALE:GREGORIAN
METHOD:PUBLISH
X-WR-CALNAME:Agenda do Vinho
X-ORIGINAL-URL:https://agendadovinho.com.br
X-WR-CALDESC:Eventos para Agenda do Vinho
BEGIN:VEVENT
DTSTART;TZID=America/Sao_Paulo:20200416T210000
DTEND;TZID=America/Sao_Paulo:20200416T210000
DTSTAMP:20260425T214235
CREATED:20200414T152053Z
LAST-MODIFIED:20200414T152053Z
UID:12532-1587070800-1587070800@agendadovinho.com.br
SUMMARY:Vinho natural - Parte 2
DESCRIPTION:Nesta quinta-feira\, dia 16/04\, às 21h\, @davinha_aovinho receberá novamente para um super bate-papo a vinhateira @vanessakmedin . Atendendo a pedidos\, darão continuidade à conversa sobre vinhos naturais e todo o seu fascinante universo. \n
URL:https://agendadovinho.com.br/event/vinho-natural-parte-2/
LOCATION:Instagram
CATEGORIES:Curso técnico,Online
ATTACH;FMTTYPE=image/jpeg:https://agendadovinho.com.br/wp-content/uploads/2020/04/davinha_aovinho_160420_2.jpg
END:VEVENT
END:VCALENDAR