BEGIN:VCALENDAR
VERSION:2.0
PRODID:-//Agenda do Vinho - ECPv4.9.0//NONSGML v1.0//EN
CALSCALE:GREGORIAN
METHOD:PUBLISH
X-WR-CALNAME:Agenda do Vinho
X-ORIGINAL-URL:https://agendadovinho.com.br
X-WR-CALDESC:Eventos para Agenda do Vinho
BEGIN:VEVENT
DTSTART;TZID=America/Sao_Paulo:20220626T143000
DTEND;TZID=America/Sao_Paulo:20220626T173000
DTSTAMP:20260419T202456
CREATED:20220614T181416Z
LAST-MODIFIED:20220614T181416Z
UID:18196-1656253800-1656264600@agendadovinho.com.br
SUMMARY:Vinho na Vila Brasília
DESCRIPTION:26/jun \n
URL:https://agendadovinho.com.br/event/vinho-na-vila-brasilia-5/
LOCATION:Casa Park Shopping\, SGCV Sul\, Sgcv Lt 12/22 Ae - Guará\, Brasília\, DF\, 71215-100\, Brasil
CATEGORIES:Degustação,DF - Brasília
ATTACH;FMTTYPE=image/jpeg:https://agendadovinho.com.br/wp-content/uploads/2022/06/vinho-na-vila-brasilia_250622.jpg
END:VEVENT
END:VCALENDAR