BEGIN:VCALENDAR
VERSION:2.0
PRODID:-//Agenda do Vinho - ECPv4.9.0//NONSGML v1.0//EN
CALSCALE:GREGORIAN
METHOD:PUBLISH
X-WR-CALNAME:Agenda do Vinho
X-ORIGINAL-URL:https://agendadovinho.com.br
X-WR-CALDESC:Eventos para Agenda do Vinho
BEGIN:VEVENT
DTSTART;TZID=America/Sao_Paulo:20240309T160000
DTEND;TZID=America/Sao_Paulo:20240309T210000
DTSTAMP:20260420T150124
CREATED:20240305T200614Z
LAST-MODIFIED:20240305T200614Z
UID:19508-1710000000-1710018000@agendadovinho.com.br
SUMMARY:VINHO NA VARANDA Não quero rosa\, quero rosé!
DESCRIPTION:
URL:https://agendadovinho.com.br/event/vinho-na-varanda-nao-quero-rosa-quero-rose/
LOCATION:Terroir Catarina\, R. Ver. Frederico Veras\, 159 - Loja 3 - Pantanal\, Florianópolis\, SC\, 88040-200\, Brasil
CATEGORIES:Degustação,SC - Florianópolis
ATTACH;FMTTYPE=image/jpeg:https://agendadovinho.com.br/wp-content/uploads/2024/03/vinho-na-varanda_090324.jpg
END:VEVENT
END:VCALENDAR