BEGIN:VCALENDAR
VERSION:2.0
PRODID:-//Agenda do Vinho - ECPv4.9.0//NONSGML v1.0//EN
CALSCALE:GREGORIAN
METHOD:PUBLISH
X-WR-CALNAME:Agenda do Vinho
X-ORIGINAL-URL:https://agendadovinho.com.br
X-WR-CALDESC:Eventos para Agenda do Vinho
BEGIN:VEVENT
DTSTART;TZID=America/Sao_Paulo:20200130T193000
DTEND;TZID=America/Sao_Paulo:20200130T213000
DTSTAMP:20260425T203831
CREATED:20200123T140317Z
LAST-MODIFIED:20200123T140317Z
UID:10760-1580412600-1580419800@agendadovinho.com.br
SUMMARY:Vinho & Life Coaching: venha traçar novos objetivos no melhor espírito!
DESCRIPTION:2020 chegou. Venha traçar novos objetivos no melhor espírito! \nO início de um novo ano sempre sugere oportunidades inéditas\, seja para ampliar os caminhos pessoais e profissionais já traçados\, seja para explorar possibilidades diferentes. Para agarrá-las\, é necessário estabelecer metas\, reconhecer os próprios talentos e habilidades\, planejar\, manter o foco e\, claro\, entrar em ação! \nAo sabor de excelentes vinhos\, vamos brindar a essas oportunidades num bate-papo com a coach de vida e carreira Tânia Rindeika e descobrir caminhos para atingir seus objetivos em 2020 e ter um novo ciclo próspero e feliz! Tim-tim! \nDetalhes do evento: \n\nBoas-vindas: espumante e palitos caprese\nDegustação de empanadas argentinas\nDegustação de dois rótulos tintos espanhóis\nBate-papo com Tânia Rindeika.\n\nObervação: R$20\,00 serão convertidos em descontos na compra de vinhos.\n
URL:https://agendadovinho.com.br/event/vinho-life-coaching-venha-tracar-novos-objetivos-no-melhor-espirito/
LOCATION:Vinho & Ponto Vila Nova Conceição\, Av. Pavão\, 806 - Moema\, São Paulo\, SP\, 04516-012\, Brasil
CATEGORIES:Degustação,SP - São Paulo
ATTACH;FMTTYPE=image/jpeg:https://agendadovinho.com.br/wp-content/uploads/2020/01/VINHOELIFECOACHING.jpg
END:VEVENT
END:VCALENDAR