BEGIN:VCALENDAR
VERSION:2.0
PRODID:-//Agenda do Vinho - ECPv4.9.0//NONSGML v1.0//EN
CALSCALE:GREGORIAN
METHOD:PUBLISH
X-WR-CALNAME:Agenda do Vinho
X-ORIGINAL-URL:https://agendadovinho.com.br
X-WR-CALDESC:Eventos para Agenda do Vinho
BEGIN:VEVENT
DTSTART;TZID=America/Sao_Paulo:20201022T180000
DTEND;TZID=America/Sao_Paulo:20201022T180000
DTSTAMP:20260423T015732
CREATED:20201022T145716Z
LAST-MODIFIED:20201022T145716Z
UID:16312-1603389600-1603389600@agendadovinho.com.br
SUMMARY:Vinho e sexualidade
DESCRIPTION:22/out – 18:00 \n
URL:https://agendadovinho.com.br/event/vinho-e-sexualidade/
LOCATION:Instagram
CATEGORIES:Curso técnico,Online
ATTACH;FMTTYPE=image/jpeg:https://agendadovinho.com.br/wp-content/uploads/2020/10/pro_vinho_br_221020.jpg
END:VEVENT
END:VCALENDAR