BEGIN:VCALENDAR
VERSION:2.0
PRODID:-//Agenda do Vinho - ECPv4.9.0//NONSGML v1.0//EN
CALSCALE:GREGORIAN
METHOD:PUBLISH
X-WR-CALNAME:Agenda do Vinho
X-ORIGINAL-URL:https://agendadovinho.com.br
X-WR-CALDESC:Eventos para Agenda do Vinho
BEGIN:VEVENT
DTSTART;TZID=America/Sao_Paulo:20200426T193000
DTEND;TZID=America/Sao_Paulo:20200426T193000
DTSTAMP:20260426T022400
CREATED:20200425T151505Z
LAST-MODIFIED:20200425T151505Z
UID:12872-1587929400-1587929400@agendadovinho.com.br
SUMMARY:Vinho e Prosa
DESCRIPTION:26/04\, às 19h30\, com  @euandregabeh \n
URL:https://agendadovinho.com.br/event/vinho-e-prosa/
LOCATION:Instagram
CATEGORIES:Online,Outros
ATTACH;FMTTYPE=image/jpeg:https://agendadovinho.com.br/wp-content/uploads/2020/04/davinha_aovinho_260420.jpg
END:VEVENT
END:VCALENDAR