BEGIN:VCALENDAR
VERSION:2.0
PRODID:-//Agenda do Vinho - ECPv4.9.0//NONSGML v1.0//EN
CALSCALE:GREGORIAN
METHOD:PUBLISH
X-WR-CALNAME:Agenda do Vinho
X-ORIGINAL-URL:https://agendadovinho.com.br
X-WR-CALDESC:Eventos para Agenda do Vinho
BEGIN:VEVENT
DTSTART;TZID=America/Sao_Paulo:20200610T193000
DTEND;TZID=America/Sao_Paulo:20200610T193000
DTSTAMP:20260425T231656
CREATED:20200608T161055Z
LAST-MODIFIED:20200608T161055Z
UID:14021-1591817400-1591817400@agendadovinho.com.br
SUMMARY:Vinho e organização de mesa: harmonização perfeita
DESCRIPTION:10/06 – 19:30 \n
URL:https://agendadovinho.com.br/event/vinho-e-organizacao-de-mesa-harmonizacao-perfeita/
LOCATION:Instagram
CATEGORIES:Curso técnico,Online
ATTACH;FMTTYPE=image/jpeg:https://agendadovinho.com.br/wp-content/uploads/2020/06/wineecult_100620.jpg
END:VEVENT
END:VCALENDAR