BEGIN:VCALENDAR
VERSION:2.0
PRODID:-//Agenda do Vinho - ECPv4.9.0//NONSGML v1.0//EN
CALSCALE:GREGORIAN
METHOD:PUBLISH
X-WR-CALNAME:Agenda do Vinho
X-ORIGINAL-URL:https://agendadovinho.com.br
X-WR-CALDESC:Eventos para Agenda do Vinho
BEGIN:VEVENT
DTSTART;TZID=America/Sao_Paulo:20210317T200000
DTEND;TZID=America/Sao_Paulo:20210317T200000
DTSTAMP:20260423T015659
CREATED:20210317T144507Z
LAST-MODIFIED:20210317T144507Z
UID:17267-1616011200-1616011200@agendadovinho.com.br
SUMMARY:Vinho e Horóscopo
DESCRIPTION:17/mar – 20:00 \n
URL:https://agendadovinho.com.br/event/vinho-e-horoscopo/
LOCATION:Instagram
CATEGORIES:Curso técnico,Online
ATTACH;FMTTYPE=image/jpeg:https://agendadovinho.com.br/wp-content/uploads/2021/03/vinhohoroscopeoficial_170321.jpg
END:VEVENT
END:VCALENDAR