BEGIN:VCALENDAR
VERSION:2.0
PRODID:-//Agenda do Vinho - ECPv4.9.0//NONSGML v1.0//EN
CALSCALE:GREGORIAN
METHOD:PUBLISH
X-WR-CALNAME:Agenda do Vinho
X-ORIGINAL-URL:https://agendadovinho.com.br
X-WR-CALDESC:Eventos para Agenda do Vinho
BEGIN:VEVENT
DTSTART;TZID=America/Sao_Paulo:20200924T180000
DTEND;TZID=America/Sao_Paulo:20200924T180000
DTSTAMP:20260425T165427
CREATED:20200924T143604Z
LAST-MODIFIED:20200924T143604Z
UID:16038-1600970400-1600970400@agendadovinho.com.br
SUMMARY:Vinho e cozinha brasileira
DESCRIPTION:24/set – 18:00 \n
URL:https://agendadovinho.com.br/event/vinho-e-cozinha-brasileira/
LOCATION:Instagram
CATEGORIES:Curso técnico,Online
ATTACH;FMTTYPE=image/jpeg:https://agendadovinho.com.br/wp-content/uploads/2020/09/pro_vinho_br_240920.jpg
END:VEVENT
END:VCALENDAR