BEGIN:VCALENDAR
VERSION:2.0
PRODID:-//Agenda do Vinho - ECPv4.9.0//NONSGML v1.0//EN
CALSCALE:GREGORIAN
METHOD:PUBLISH
X-WR-CALNAME:Agenda do Vinho
X-ORIGINAL-URL:https://agendadovinho.com.br
X-WR-CALDESC:Eventos para Agenda do Vinho
BEGIN:VEVENT
DTSTART;TZID=America/Sao_Paulo:20200414T203000
DTEND;TZID=America/Sao_Paulo:20200414T203000
DTSTAMP:20260426T040059
CREATED:20200413T145250Z
LAST-MODIFIED:20200413T145250Z
UID:12478-1586896200-1586896200@agendadovinho.com.br
SUMMARY:Vinho e comida: o casamento perfeito
DESCRIPTION:Na terça-feira\, 14/04\, às 20h30\, @davinha_aovinho e @sartoridu \, presidente da @abs_campinas \, estarão de volta para um assunto delicioso: vinho e comida. Prepare teu vinho e teu caderninho de anotações porque vem muita dica top por aqui! \n
URL:https://agendadovinho.com.br/event/vinho-e-comida-o-casamento-perfeito/
LOCATION:Instagram
CATEGORIES:Curso técnico,Online
ATTACH;FMTTYPE=image/jpeg:https://agendadovinho.com.br/wp-content/uploads/2020/04/davinha_aovinho_140420_2.jpg
END:VEVENT
END:VCALENDAR