BEGIN:VCALENDAR
VERSION:2.0
PRODID:-//Agenda do Vinho - ECPv4.9.0//NONSGML v1.0//EN
CALSCALE:GREGORIAN
METHOD:PUBLISH
X-WR-CALNAME:Agenda do Vinho
X-ORIGINAL-URL:https://agendadovinho.com.br
X-WR-CALDESC:Eventos para Agenda do Vinho
BEGIN:VEVENT
DTSTART;TZID=America/Sao_Paulo:20200423T200000
DTEND;TZID=America/Sao_Paulo:20200423T200000
DTSTAMP:20260426T040339
CREATED:20200421T191550Z
LAST-MODIFIED:20200421T191550Z
UID:12723-1587672000-1587672000@agendadovinho.com.br
SUMMARY:Vinho Churchill: Influência da Madeira e Vinhos Premium
DESCRIPTION:LIVE nesta quinta-feira\, 23 de abril\, às 20hs. Na página da @qualvinhoeulevo \nTodo vinho pode amadurecer ou ter contato com a madeira?\nO que quer dizer isso? Como que funciona?\nPor que estagiar o vinho na madeira?\nUm grande vinho é\, essencialmente\, e de forma bem resumida\, o resultado que pode ser conseguido com excelente fruta + bons cuidados. \n@qualvinhoeulevo receberá Nathan J Churchill da @vinhochurchill. Responsável e representante pela marca Canton de barricas de carvalho americano no Brasil (Canton Cooperage de Kentucky – empresa que pertence à Taransaud de Cognac\, França) e parceiro no Brasil da @vinicolavalmarino desde 2006. \n
URL:https://agendadovinho.com.br/event/vinho-churchill-influencia-da-madeira-e-vinhos-premium/
LOCATION:Instagram
CATEGORIES:Curso técnico,Online
ATTACH;FMTTYPE=image/jpeg:https://agendadovinho.com.br/wp-content/uploads/2020/04/qualvinhoeulevo_230420.jpg
END:VEVENT
END:VCALENDAR