BEGIN:VCALENDAR
VERSION:2.0
PRODID:-//Agenda do Vinho - ECPv4.9.0//NONSGML v1.0//EN
CALSCALE:GREGORIAN
METHOD:PUBLISH
X-WR-CALNAME:Agenda do Vinho
X-ORIGINAL-URL:https://agendadovinho.com.br
X-WR-CALDESC:Eventos para Agenda do Vinho
BEGIN:VEVENT
DTSTART;TZID=America/Sao_Paulo:20200521T210000
DTEND;TZID=America/Sao_Paulo:20200521T210000
DTSTAMP:20260426T035900
CREATED:20200520T161132Z
LAST-MODIFIED:20200520T161132Z
UID:13567-1590094800-1590094800@agendadovinho.com.br
SUMMARY:Vinho brasileiro
DESCRIPTION:21/05 – 21h \n
URL:https://agendadovinho.com.br/event/vinho-brasileiro/
LOCATION:Instagram
CATEGORIES:Curso técnico,Online
ATTACH;FMTTYPE=image/jpeg:https://agendadovinho.com.br/wp-content/uploads/2020/05/vinhosdobruno_210520.jpg
END:VEVENT
END:VCALENDAR