BEGIN:VCALENDAR
VERSION:2.0
PRODID:-//Agenda do Vinho - ECPv4.9.0//NONSGML v1.0//EN
CALSCALE:GREGORIAN
METHOD:PUBLISH
X-WR-CALNAME:Agenda do Vinho
X-ORIGINAL-URL:https://agendadovinho.com.br
X-WR-CALDESC:Eventos para Agenda do Vinho
BEGIN:VEVENT
DTSTART;TZID=America/Sao_Paulo:20200521T150000
DTEND;TZID=America/Sao_Paulo:20200521T150000
DTSTAMP:20260426T004945
CREATED:20200521T150311Z
LAST-MODIFIED:20200521T150311Z
UID:13600-1590073200-1590073200@agendadovinho.com.br
SUMMARY:Vinho brasileiro
DESCRIPTION:21/05 – 21h \n
URL:https://agendadovinho.com.br/event/vinho-brasileiro-2/
LOCATION:Instagram
CATEGORIES:Curso técnico,Online
ATTACH;FMTTYPE=image/jpeg:https://agendadovinho.com.br/wp-content/uploads/2020/05/sabrinatrezze_210520.jpg
END:VEVENT
END:VCALENDAR