BEGIN:VCALENDAR
VERSION:2.0
PRODID:-//Agenda do Vinho - ECPv4.9.0//NONSGML v1.0//EN
CALSCALE:GREGORIAN
METHOD:PUBLISH
X-WR-CALNAME:Agenda do Vinho
X-ORIGINAL-URL:https://agendadovinho.com.br
X-WR-CALDESC:Eventos para Agenda do Vinho
BEGIN:VEVENT
DTSTART;TZID=America/Sao_Paulo:20200922T210000
DTEND;TZID=America/Sao_Paulo:20200922T210000
DTSTAMP:20260425T165308
CREATED:20200922T144710Z
LAST-MODIFIED:20200922T144710Z
UID:16005-1600808400-1600808400@agendadovinho.com.br
SUMMARY:Vinho bom é vinho com rolha?
DESCRIPTION:22/set – 21:00 \n
URL:https://agendadovinho.com.br/event/vinho-bom-e-vinho-com-rolha/
LOCATION:Instagram
CATEGORIES:Curso técnico,Online
ATTACH;FMTTYPE=image/jpeg:https://agendadovinho.com.br/wp-content/uploads/2020/09/vinhosdecorte_220920.jpg
END:VEVENT
END:VCALENDAR