BEGIN:VCALENDAR
VERSION:2.0
PRODID:-//Agenda do Vinho - ECPv4.9.0//NONSGML v1.0//EN
CALSCALE:GREGORIAN
METHOD:PUBLISH
X-WR-CALNAME:Agenda do Vinho
X-ORIGINAL-URL:https://agendadovinho.com.br
X-WR-CALDESC:Eventos para Agenda do Vinho
BEGIN:VEVENT
DTSTART;TZID=America/Sao_Paulo:20200414T170000
DTEND;TZID=America/Sao_Paulo:20200414T170000
DTSTAMP:20260426T040344
CREATED:20200413T145357Z
LAST-MODIFIED:20200413T145357Z
UID:12479-1586883600-1586883600@agendadovinho.com.br
SUMMARY:Vinho autêntico x vinho tecnológico
DESCRIPTION:Direto da Borgonha\, @jeanc.cara e @winelover_br (aqui no Brasil 🤭)\, conversarão sobre um tema que causa dúvida e celeuma no mundo do vinho : VINHO AUTÊNTICO X VINHO TECNOLÓGICO. 🍷 \nJean Claude Cara é franco brasileiro\,escritor\, consultor de vinhos\, gastronomia e trabalhou como chef de cozinha na França. Hoje mora na região de Beaune na Borgonha\, é considerado um dos maiores especialistas dos vinhos desta região na França.😍🍷 \nImperdível! \n
URL:https://agendadovinho.com.br/event/vinho-autentico-x-vinho-tecnologico/
LOCATION:Instagram
CATEGORIES:Curso técnico,Online
ATTACH;FMTTYPE=image/jpeg:https://agendadovinho.com.br/wp-content/uploads/2020/04/winelover_br_140420.jpg
END:VEVENT
END:VCALENDAR