BEGIN:VCALENDAR
VERSION:2.0
PRODID:-//Agenda do Vinho - ECPv4.9.0//NONSGML v1.0//EN
CALSCALE:GREGORIAN
METHOD:PUBLISH
X-WR-CALNAME:Agenda do Vinho
X-ORIGINAL-URL:https://agendadovinho.com.br
X-WR-CALDESC:Eventos para Agenda do Vinho
BEGIN:VEVENT
DTSTART;TZID=UTC-3:20190627T190000
DTEND;TZID=UTC-3:20190627T203000
DTSTAMP:20260419T151434
CREATED:20190420T232732Z
LAST-MODIFIED:20190531T181213Z
UID:2268-1561662000-1561667400@agendadovinho.com.br
SUMMARY:Viña Montes - com Giuliana Ferreira
DESCRIPTION:O produtor foi o pioneiro dos vinhos de alta qualidade no Chile\, quase três décadas atrás. Seu vinho mais emblemático\, o Montes Alpha Cabernet Sauvignon\, foi o primeiro grande vinho tinto chileno\, recebendo enorme reconhecimento internacional. \n
URL:https://agendadovinho.com.br/event/vina-montes-com-giuliana-ferreira/
LOCATION:Pão de Açúcar Adega\, Rua Augusta\, 2710\, São Paulo\, SP\, Brasil
CATEGORIES:Degustação,SP - São Paulo
ATTACH;FMTTYPE=image/jpeg:https://agendadovinho.com.br/wp-content/uploads/2019/04/pao-de-acucar-adega-e1556067472626.jpg
END:VEVENT
END:VCALENDAR