BEGIN:VCALENDAR
VERSION:2.0
PRODID:-//Agenda do Vinho - ECPv4.9.0//NONSGML v1.0//EN
CALSCALE:GREGORIAN
METHOD:PUBLISH
X-WR-CALNAME:Agenda do Vinho
X-ORIGINAL-URL:https://agendadovinho.com.br
X-WR-CALDESC:Eventos para Agenda do Vinho
BEGIN:VEVENT
DTSTART;TZID=America/Sao_Paulo:20200812T210000
DTEND;TZID=America/Sao_Paulo:20200812T210000
DTSTAMP:20260422T082215
CREATED:20200812T152800Z
LAST-MODIFIED:20200812T152800Z
UID:15593-1597266000-1597266000@agendadovinho.com.br
SUMMARY:Viña Errazuriz e Vinos Baettig
DESCRIPTION:12/ago – 21:00 \n
URL:https://agendadovinho.com.br/event/vina-errazuriz-e-vinos-baettig/
LOCATION:Instagram
CATEGORIES:Curso técnico,Online
ATTACH;FMTTYPE=image/jpeg:https://agendadovinho.com.br/wp-content/uploads/2020/08/davinha_aovinho_120820.jpg
END:VEVENT
END:VCALENDAR