BEGIN:VCALENDAR
VERSION:2.0
PRODID:-//Agenda do Vinho - ECPv4.9.0//NONSGML v1.0//EN
CALSCALE:GREGORIAN
METHOD:PUBLISH
X-WR-CALNAME:Agenda do Vinho
X-ORIGINAL-URL:https://agendadovinho.com.br
X-WR-CALDESC:Eventos para Agenda do Vinho
BEGIN:VEVENT
DTSTART;TZID=America/Sao_Paulo:20200625T210000
DTEND;TZID=America/Sao_Paulo:20200625T210000
DTSTAMP:20260425T114746
CREATED:20200624T162259Z
LAST-MODIFIED:20200624T162259Z
UID:14539-1593118800-1593118800@agendadovinho.com.br
SUMMARY:Villa Francioni
DESCRIPTION:25/06 – 21h \n
URL:https://agendadovinho.com.br/event/villa-francioni/
LOCATION:Instagram
CATEGORIES:Curso técnico,Online
ATTACH;FMTTYPE=image/jpeg:https://agendadovinho.com.br/wp-content/uploads/2020/06/vinhosdobruno_250620.jpg
END:VEVENT
END:VCALENDAR