BEGIN:VCALENDAR
VERSION:2.0
PRODID:-//Agenda do Vinho - ECPv4.9.0//NONSGML v1.0//EN
CALSCALE:GREGORIAN
METHOD:PUBLISH
X-WR-CALNAME:Agenda do Vinho
X-ORIGINAL-URL:https://agendadovinho.com.br
X-WR-CALDESC:Eventos para Agenda do Vinho
BEGIN:VEVENT
DTSTART;TZID=UTC-3:20190425T200000
DTEND;TZID=UTC-3:20190425T220000
DTSTAMP:20260419T205058
CREATED:20190421T120108Z
LAST-MODIFIED:20190421T120555Z
UID:2281-1556222400-1556229600@agendadovinho.com.br
SUMMARY:Varanda Experience
DESCRIPTION:Venha degustar conosco vinhos e azeites da Adega Alentejana. \nVaranda – Shopping Vila Olímpia \nInscrições: 11-3047-6002 \n
URL:https://agendadovinho.com.br/event/varanda-experience-2/
LOCATION:Varanda Empório\, Rua Olimpíadas\, 360\, São Paulo\, SP\, Brasil
CATEGORIES:Degustação livre,SP - São Paulo
ATTACH;FMTTYPE=image/jpeg:https://agendadovinho.com.br/wp-content/uploads/2019/04/varanda_230419.jpg
END:VEVENT
END:VCALENDAR