BEGIN:VCALENDAR
VERSION:2.0
PRODID:-//Agenda do Vinho - ECPv4.9.0//NONSGML v1.0//EN
CALSCALE:GREGORIAN
METHOD:PUBLISH
X-WR-CALNAME:Agenda do Vinho
X-ORIGINAL-URL:https://agendadovinho.com.br
X-WR-CALDESC:Eventos para Agenda do Vinho
BEGIN:VEVENT
DTSTART;TZID=America/Sao_Paulo:20200610T200000
DTEND;TZID=America/Sao_Paulo:20200610T200000
DTSTAMP:20260423T093059
CREATED:20200609T162141Z
LAST-MODIFIED:20200609T162141Z
UID:14084-1591819200-1591819200@agendadovinho.com.br
SUMMARY:Vamos falar um pouquinho sobre vinho?
DESCRIPTION:10/06 – 20h \n
URL:https://agendadovinho.com.br/event/vamos-falar-um-pouquinho-sobre-vinho/
LOCATION:Instagram
CATEGORIES:Curso técnico,Online
ATTACH;FMTTYPE=image/jpeg:https://agendadovinho.com.br/wp-content/uploads/2020/06/nwinesimportadora_100620.jpg
END:VEVENT
END:VCALENDAR