BEGIN:VCALENDAR
VERSION:2.0
PRODID:-//Agenda do Vinho - ECPv4.9.0//NONSGML v1.0//EN
CALSCALE:GREGORIAN
METHOD:PUBLISH
X-WR-CALNAME:Agenda do Vinho
X-ORIGINAL-URL:https://agendadovinho.com.br
X-WR-CALDESC:Eventos para Agenda do Vinho
BEGIN:VEVENT
DTSTART;TZID=America/Sao_Paulo:20200827T190000
DTEND;TZID=America/Sao_Paulo:20200827T190000
DTSTAMP:20260425T150801
CREATED:20200826T142706Z
LAST-MODIFIED:20200826T142706Z
UID:15798-1598554800-1598554800@agendadovinho.com.br
SUMMARY:Uma jornada pelo mundo dos vinhos
DESCRIPTION:27/ago – 19:00 \n
URL:https://agendadovinho.com.br/event/uma-jornada-pelo-mundo-dos-vinhos/
LOCATION:Instagram
CATEGORIES:Curso técnico,Online
ATTACH;FMTTYPE=image/jpeg:https://agendadovinho.com.br/wp-content/uploads/2020/08/pro_vinho_br_270820.jpg
END:VEVENT
END:VCALENDAR