BEGIN:VCALENDAR
VERSION:2.0
PRODID:-//Agenda do Vinho - ECPv4.9.0//NONSGML v1.0//EN
CALSCALE:GREGORIAN
METHOD:PUBLISH
X-WR-CALNAME:Agenda do Vinho
X-ORIGINAL-URL:https://agendadovinho.com.br
X-WR-CALDESC:Eventos para Agenda do Vinho
BEGIN:VEVENT
DTSTART;TZID=America/Sao_Paulo:20200813T170000
DTEND;TZID=America/Sao_Paulo:20200813T170000
DTSTAMP:20260422T095347
CREATED:20200813T135530Z
LAST-MODIFIED:20200813T135530Z
UID:15620-1597338000-1597338000@agendadovinho.com.br
SUMMARY:Uma brasileira na OIV
DESCRIPTION:13/ago – 17:00 \n
URL:https://agendadovinho.com.br/event/uma-brasileira-na-oiv/
LOCATION:Instagram
CATEGORIES:Curso técnico,Online
ATTACH;FMTTYPE=image/jpeg:https://agendadovinho.com.br/wp-content/uploads/2020/08/pro_vinho_br_130820.jpg
END:VEVENT
END:VCALENDAR