BEGIN:VCALENDAR
VERSION:2.0
PRODID:-//Agenda do Vinho - ECPv4.9.0//NONSGML v1.0//EN
CALSCALE:GREGORIAN
METHOD:PUBLISH
X-WR-CALNAME:Agenda do Vinho
X-ORIGINAL-URL:https://agendadovinho.com.br
X-WR-CALDESC:Eventos para Agenda do Vinho
BEGIN:VEVENT
DTSTART;TZID=America/Sao_Paulo:20201028T200000
DTEND;TZID=America/Sao_Paulo:20201028T200000
DTSTAMP:20260423T015936
CREATED:20201028T154448Z
LAST-MODIFIED:20201028T154448Z
UID:16398-1603915200-1603915200@agendadovinho.com.br
SUMMARY:Um bate-papo sobre o ícone Gran Villa-Lobos
DESCRIPTION:28/out – 20:00 \n
URL:https://agendadovinho.com.br/event/um-bate-papo-sobre-o-icone-gran-villa-lobos/
LOCATION:Instagram
CATEGORIES:Curso técnico,Online
ATTACH;FMTTYPE=image/jpeg:https://agendadovinho.com.br/wp-content/uploads/2020/10/contos_de_vinho_281020.jpg
END:VEVENT
END:VCALENDAR