BEGIN:VCALENDAR
VERSION:2.0
PRODID:-//Agenda do Vinho - ECPv4.9.0//NONSGML v1.0//EN
CALSCALE:GREGORIAN
METHOD:PUBLISH
X-WR-CALNAME:Agenda do Vinho
X-ORIGINAL-URL:https://agendadovinho.com.br
X-WR-CALDESC:Eventos para Agenda do Vinho
BEGIN:VEVENT
DTSTART;TZID=America/Sao_Paulo:20200424T170000
DTEND;TZID=America/Sao_Paulo:20200424T170000
DTSTAMP:20260426T022321
CREATED:20200423T201859Z
LAST-MODIFIED:20200423T201859Z
UID:12838-1587747600-1587747600@agendadovinho.com.br
SUMMARY:Terroir
DESCRIPTION:Dia 24/04\, ás 17:00 horas\, com @winelover_br e @jeanc.cara. \n
URL:https://agendadovinho.com.br/event/terroir/
LOCATION:Instagram
CATEGORIES:Curso técnico,Online
ATTACH;FMTTYPE=image/jpeg:https://agendadovinho.com.br/wp-content/uploads/2020/04/winelover_br_240420.jpg
END:VEVENT
END:VCALENDAR