BEGIN:VCALENDAR
VERSION:2.0
PRODID:-//Agenda do Vinho - ECPv4.9.0//NONSGML v1.0//EN
CALSCALE:GREGORIAN
METHOD:PUBLISH
X-WR-CALNAME:Agenda do Vinho
X-ORIGINAL-URL:https://agendadovinho.com.br
X-WR-CALDESC:Eventos para Agenda do Vinho
BEGIN:VEVENT
DTSTART;TZID=America/Sao_Paulo:20200415T200000
DTEND;TZID=America/Sao_Paulo:20200415T200000
DTSTAMP:20260426T035639
CREATED:20200415T152634Z
LAST-MODIFIED:20200415T152634Z
UID:12555-1586980800-1586980800@agendadovinho.com.br
SUMMARY:Terroir Mineiro
DESCRIPTION:Live de @duvalewinetasting com a Michelle Sani\, CEO da Vinícola Helios @vinicola_helios \, onde falarão sobre Terroir MINEIRO\, um pouco da história\, das Vinícolas\, semelhanças e coincidências com as histórias do Terroir Baiano. \nE\, para essa live\, contarão com uma participação especial do Sr. Procópio\, proprietário da @vinicolastellavalentino \, o qual contará um pouco sobre toda história da Vinícola e de tudo que vêm acontecendo no Terroir Mineiro\, Andradas e o futuro da Vinícola e seus projetos junto com a EPAMIG. \n
URL:https://agendadovinho.com.br/event/terroir-mineiro/
LOCATION:Instagram
CATEGORIES:Curso técnico,Online
ATTACH;FMTTYPE=image/jpeg:https://agendadovinho.com.br/wp-content/uploads/2020/04/duvalewinetasting_150420.jpg
END:VEVENT
END:VCALENDAR