BEGIN:VCALENDAR
VERSION:2.0
PRODID:-//Agenda do Vinho - ECPv4.9.0//NONSGML v1.0//EN
CALSCALE:GREGORIAN
METHOD:PUBLISH
X-WR-CALNAME:Agenda do Vinho
X-ORIGINAL-URL:https://agendadovinho.com.br
X-WR-CALDESC:Eventos para Agenda do Vinho
BEGIN:VEVENT
DTSTART;TZID=America/Sao_Paulo:20200422T193000
DTEND;TZID=America/Sao_Paulo:20200422T193000
DTSTAMP:20260426T040201
CREATED:20200408T154220Z
LAST-MODIFIED:20200408T154220Z
UID:12403-1587583800-1587583800@agendadovinho.com.br
SUMMARY:Técnica de degustação do WSET 3
DESCRIPTION:Entenderemos a Técnica Sistemática de degustação de acordo com o WSET nível 3. Para facilitar o entendimento\, será feita uma degustação comentada com 3 vinhos. \n
URL:https://agendadovinho.com.br/event/tecnica-de-degustacao-do-wset-3/
LOCATION:Instagram
CATEGORIES:Curso técnico,Online
ATTACH;FMTTYPE=image/jpeg:https://agendadovinho.com.br/wp-content/uploads/2020/04/eno_cultura_080420.jpg
END:VEVENT
END:VCALENDAR