BEGIN:VCALENDAR
VERSION:2.0
PRODID:-//Agenda do Vinho - ECPv4.9.0//NONSGML v1.0//EN
CALSCALE:GREGORIAN
METHOD:PUBLISH
X-WR-CALNAME:Agenda do Vinho
X-ORIGINAL-URL:https://agendadovinho.com.br
X-WR-CALDESC:Eventos para Agenda do Vinho
BEGIN:VEVENT
DTSTART;TZID=America/Sao_Paulo:20240423T190000
DTEND;TZID=America/Sao_Paulo:20240423T190000
DTSTAMP:20260420T191517
CREATED:20240410T151847Z
LAST-MODIFIED:20240410T151847Z
UID:19840-1713898800-1713898800@agendadovinho.com.br
SUMMARY:Tasting Experience Cinco Sentidos
DESCRIPTION:
URL:https://agendadovinho.com.br/event/tasting-experience-cinco-sentidos/
LOCATION:Tasting Escola de Vinhos\, São Luís\, MA\, Brasil
CATEGORIES:MA - São Luís,Outros
ATTACH;FMTTYPE=image/jpeg:https://agendadovinho.com.br/wp-content/uploads/2024/04/tasting-experience_230424.jpg
END:VEVENT
END:VCALENDAR