BEGIN:VCALENDAR
VERSION:2.0
PRODID:-//Agenda do Vinho - ECPv4.9.0//NONSGML v1.0//EN
CALSCALE:GREGORIAN
METHOD:PUBLISH
X-WR-CALNAME:Agenda do Vinho
X-ORIGINAL-URL:https://agendadovinho.com.br
X-WR-CALDESC:Eventos para Agenda do Vinho
BEGIN:VEVENT
DTSTART;TZID=America/Sao_Paulo:20200623T183000
DTEND;TZID=America/Sao_Paulo:20200623T183000
DTSTAMP:20260425T231218
CREATED:20200623T160257Z
LAST-MODIFIED:20200623T160257Z
UID:14438-1592937000-1592937000@agendadovinho.com.br
SUMMARY:Taças Riedel
DESCRIPTION:23/06 – 18:30 \n
URL:https://agendadovinho.com.br/event/tacas-riedel/
LOCATION:Instagram
CATEGORIES:Curso técnico,Online
ATTACH;FMTTYPE=image/jpeg:https://agendadovinho.com.br/wp-content/uploads/2020/06/thewineschoolbrasil_230620.jpg
END:VEVENT
END:VCALENDAR