BEGIN:VCALENDAR
VERSION:2.0
PRODID:-//Agenda do Vinho - ECPv4.9.0//NONSGML v1.0//EN
CALSCALE:GREGORIAN
METHOD:PUBLISH
X-WR-CALNAME:Agenda do Vinho
X-ORIGINAL-URL:https://agendadovinho.com.br
X-WR-CALDESC:Eventos para Agenda do Vinho
BEGIN:VEVENT
DTSTART;TZID=America/Sao_Paulo:20200507T210000
DTEND;TZID=America/Sao_Paulo:20200507T210000
DTSTAMP:20260426T022732
CREATED:20200506T145914Z
LAST-MODIFIED:20200506T145914Z
UID:13212-1588885200-1588885200@agendadovinho.com.br
SUMMARY:Taças de vinho branco
DESCRIPTION:07/05 – 21h. \nInstagram da @straussoficial. \n
URL:https://agendadovinho.com.br/event/tacas-de-vinho-branco/
LOCATION:Instagram
CATEGORIES:Curso técnico,Online
ATTACH;FMTTYPE=image/jpeg:https://agendadovinho.com.br/wp-content/uploads/2020/05/vinhonapauta_070520.jpg
END:VEVENT
END:VCALENDAR