BEGIN:VCALENDAR
VERSION:2.0
PRODID:-//Agenda do Vinho - ECPv4.9.0//NONSGML v1.0//EN
CALSCALE:GREGORIAN
METHOD:PUBLISH
X-WR-CALNAME:Agenda do Vinho
X-ORIGINAL-URL:https://agendadovinho.com.br
X-WR-CALDESC:Eventos para Agenda do Vinho
BEGIN:VEVENT
DTSTART;TZID=America/Sao_Paulo:20200414T170000
DTEND;TZID=America/Sao_Paulo:20200414T170000
DTSTAMP:20260426T035811
CREATED:20200414T151047Z
LAST-MODIFIED:20200414T151047Z
UID:12507-1586883600-1586883600@agendadovinho.com.br
SUMMARY:Susana Balbo
DESCRIPTION:Felipe Cesca @cantuimportadora convida Susana Balbo (Susana Balbo Wines). \n
URL:https://agendadovinho.com.br/event/susana-balbo/
LOCATION:Instagram
CATEGORIES:Curso técnico,Online
ATTACH;FMTTYPE=image/png:https://agendadovinho.com.br/wp-content/uploads/2020/04/cantuimportadora_140420.png
END:VEVENT
END:VCALENDAR