BEGIN:VCALENDAR
VERSION:2.0
PRODID:-//Agenda do Vinho - ECPv4.9.0//NONSGML v1.0//EN
CALSCALE:GREGORIAN
METHOD:PUBLISH
X-WR-CALNAME:Agenda do Vinho
X-ORIGINAL-URL:https://agendadovinho.com.br
X-WR-CALDESC:Eventos para Agenda do Vinho
BEGIN:VEVENT
DTSTART;TZID=America/Sao_Paulo:20200118T163000
DTEND;TZID=America/Sao_Paulo:20200118T210000
DTSTAMP:20260425T233713
CREATED:20200117T144740Z
LAST-MODIFIED:20200117T144740Z
UID:10638-1579365000-1579381200@agendadovinho.com.br
SUMMARY:Sunset - Vindima Goethe 2020
DESCRIPTION:Na programação da XII VINDIMA GOETHE\, em Urussanga\, no Sul de Santa Catarina\, a primeira ação é o tradicional Sunset da vinícola Casa del Nonno\, que acontecerá no final de tarde do dia 18 de janeiro. Música ao vivo\, apreciação do pôr do sol\,  tábuas de frios e comercialização de vinhos. \nVenha conhecer e apreciar o típico e raro Vinho Goethe em um ambiente cheio de tradição\, conforto e ao ar livre. Viva o encanto da vitivinicultura de Urussanga em uma tarde mais que especial. \nEsperamos por vocês! \n
URL:https://agendadovinho.com.br/event/sunset-vindima-goethe-2020/
LOCATION:Casa del Nonno\, G.\, R. Olivio Gealdini Mariot\, 79 - Centro\, Urussanga\, SC\, 88840-000\, Brasil
CATEGORIES:Outros,SC - Demais cidades
ATTACH;FMTTYPE=image/jpeg:https://agendadovinho.com.br/wp-content/uploads/2020/01/vinho-uva-Goethe-Santa-Catarina-8.jpg
END:VEVENT
END:VCALENDAR