BEGIN:VCALENDAR
VERSION:2.0
PRODID:-//Agenda do Vinho - ECPv4.9.0//NONSGML v1.0//EN
CALSCALE:GREGORIAN
METHOD:PUBLISH
X-WR-CALNAME:Agenda do Vinho
X-ORIGINAL-URL:https://agendadovinho.com.br
X-WR-CALDESC:Eventos para Agenda do Vinho
BEGIN:VEVENT
DTSTART;TZID=America/Sao_Paulo:20200513T220000
DTEND;TZID=America/Sao_Paulo:20200513T220000
DTSTAMP:20260426T022553
CREATED:20200512T193012Z
LAST-MODIFIED:20200512T193012Z
UID:13389-1589407200-1589407200@agendadovinho.com.br
SUMMARY:Sobre vinhos e ocasiões
DESCRIPTION:13/05 – 22h \n
URL:https://agendadovinho.com.br/event/sobre-vinhos-e-ocasioes/
LOCATION:Instagram
CATEGORIES:Online,Outros
ATTACH;FMTTYPE=image/jpeg:https://agendadovinho.com.br/wp-content/uploads/2020/05/winelover_br_130520.jpg
END:VEVENT
END:VCALENDAR